BEGIN:VCALENDAR
VERSION:2.0
PRODID:-// - ECPv6.15.20//NONSGML v1.0//EN
CALSCALE:GREGORIAN
METHOD:PUBLISH
X-ORIGINAL-URL:https://keyworthcameraclub.org.uk
X-WR-CALDESC:Events for 
REFRESH-INTERVAL;VALUE=DURATION:PT1H
X-Robots-Tag:noindex
X-PUBLISHED-TTL:PT1H
BEGIN:VTIMEZONE
TZID:UTC
BEGIN:STANDARD
TZOFFSETFROM:+0000
TZOFFSETTO:+0000
TZNAME:UTC
DTSTART:20250101T000000
END:STANDARD
END:VTIMEZONE
BEGIN:VEVENT
DTSTART;TZID=UTC:20260423T194500
DTEND;TZID=UTC:20260423T220000
DTSTAMP:20260420T004427
CREATED:20250807T193440Z
LAST-MODIFIED:20250807T193440Z
UID:7265-1776973500-1776981600@keyworthcameraclub.org.uk
SUMMARY:My Photography with Ian Pinn
DESCRIPTION:This talk is all about me and what I get up to when out and about with my camera\, it will consist of many different images from lots of different locations
URL:https://keyworthcameraclub.org.uk/event/my-photography-with-ian-pinn
ATTACH;FMTTYPE=image/jpeg:https://keyworthcameraclub.org.uk/wp-content/uploads/2025/07/Holding-onto-Autumn-by-Ian-Pinn-scaled.jpg
END:VEVENT
BEGIN:VEVENT
DTSTART;TZID=UTC:20260430T194500
DTEND;TZID=UTC:20260430T220000
DTSTAMP:20260420T004427
CREATED:20250807T193447Z
LAST-MODIFIED:20250807T193447Z
UID:7268-1777578300-1777586400@keyworthcameraclub.org.uk
SUMMARY:Sixth Competition Night
DESCRIPTION:All six competition nights this season will comprise of three sections\, Colour\, Monochrome and Nature. There will be a split between Digitally Projected Images and Prints on each Evening. \n\n\n\nPlease see the attachment for a breakdown of each competition night. \n\n\n\nKCC Competition StructureDownload
URL:https://keyworthcameraclub.org.uk/event/sixth-competition-night-2
END:VEVENT
BEGIN:VEVENT
DTSTART;TZID=UTC:20260507T194500
DTEND;TZID=UTC:20260507T220000
DTSTAMP:20260420T004427
CREATED:20250807T193453Z
LAST-MODIFIED:20250807T193453Z
UID:7270-1778183100-1778191200@keyworthcameraclub.org.uk
SUMMARY:Penguins to Polar Bears with Peter Jones ARPS DPAGB BPE3 and Sue Wilson DPAGB BPE3
DESCRIPTION:Both Susan and I have spent seven weeks all together in Antarctica over four trips\, and over eight trips to the Arctic. Always in there summer and during the day time the temperature is only minus five. The wildlife is fantastic\, both north and south are the two best places in the world one could visit.
URL:https://keyworthcameraclub.org.uk/event/penguins-to-polar-bears-with-peter-jones-arps-dpagb-bpe3-and-sue-wilson-dpagb-bpe3
ATTACH;FMTTYPE=image/jpeg:https://keyworthcameraclub.org.uk/wp-content/uploads/2025/07/Peter-Jones-and-Sue-Wilson.jpg
END:VEVENT
BEGIN:VEVENT
DTSTART;TZID=UTC:20260514T194500
DTEND;TZID=UTC:20260514T220000
DTSTAMP:20260420T004427
CREATED:20250807T193500Z
LAST-MODIFIED:20250807T193500Z
UID:7273-1778787900-1778796000@keyworthcameraclub.org.uk
SUMMARY:Post Processing Considerations and Myths with Ian Sharp LRPS
DESCRIPTION:Ian will start the evening by leading a non-technical discussion about post-processing; less “How do I?” and more “Should I?”. We will then continue in a similar vein exploring misconceptions and alternative views in photography
URL:https://keyworthcameraclub.org.uk/event/post-processing-considerations-and-myths-with-ian-sharp-lrps
ATTACH;FMTTYPE=image/png:https://keyworthcameraclub.org.uk/wp-content/uploads/2025/07/5-monks-photoshopping-by-Ian-Sharp.png
END:VEVENT
BEGIN:VEVENT
DTSTART;TZID=UTC:20260521T194500
DTEND;TZID=UTC:20260521T220000
DTSTAMP:20260420T004427
CREATED:20250807T193508Z
LAST-MODIFIED:20250807T193508Z
UID:7276-1779392700-1779400800@keyworthcameraclub.org.uk
SUMMARY:Themes Competition Night
DESCRIPTION:It is the second year for this new competition\, which was hailed a success last season\,  and it again provides a chance for all members to share 4 images from a list of 6 themes. \n\n\n\nFull details of the Themes and rules can be found by following the link below. \n\n\n\nPlease ensure you read them carefully before entering your images to ensure they meet the criteria.
URL:https://keyworthcameraclub.org.uk/event/themes-competition-night
END:VEVENT
BEGIN:VEVENT
DTSTART;TZID=UTC:20260528T194500
DTEND;TZID=UTC:20260528T220000
DTSTAMP:20260420T004427
CREATED:20250807T193515Z
LAST-MODIFIED:20250807T193515Z
UID:7278-1779997500-1780005600@keyworthcameraclub.org.uk
SUMMARY:Awards Evening
DESCRIPTION:
URL:https://keyworthcameraclub.org.uk/event/awards-evening
END:VEVENT
END:VCALENDAR